BEGIN:VCALENDAR
VERSION:2.0
PRODID:-//Royal Southampton Yacht Club  - ECPv6.15.17.1//NONSGML v1.0//EN
CALSCALE:GREGORIAN
METHOD:PUBLISH
X-ORIGINAL-URL:https://www.rsyc.org.uk
X-WR-CALDESC:Events for Royal Southampton Yacht Club 
REFRESH-INTERVAL;VALUE=DURATION:PT1H
X-Robots-Tag:noindex
X-PUBLISHED-TTL:PT1H
BEGIN:VTIMEZONE
TZID:Europe/London
BEGIN:DAYLIGHT
TZOFFSETFROM:+0000
TZOFFSETTO:+0100
TZNAME:BST
DTSTART:20210328T010000
END:DAYLIGHT
BEGIN:STANDARD
TZOFFSETFROM:+0100
TZOFFSETTO:+0000
TZNAME:GMT
DTSTART:20211031T010000
END:STANDARD
BEGIN:DAYLIGHT
TZOFFSETFROM:+0000
TZOFFSETTO:+0100
TZNAME:BST
DTSTART:20220327T010000
END:DAYLIGHT
BEGIN:STANDARD
TZOFFSETFROM:+0100
TZOFFSETTO:+0000
TZNAME:GMT
DTSTART:20221030T010000
END:STANDARD
BEGIN:DAYLIGHT
TZOFFSETFROM:+0000
TZOFFSETTO:+0100
TZNAME:BST
DTSTART:20230326T010000
END:DAYLIGHT
BEGIN:STANDARD
TZOFFSETFROM:+0100
TZOFFSETTO:+0000
TZNAME:GMT
DTSTART:20231029T010000
END:STANDARD
END:VTIMEZONE
BEGIN:VEVENT
DTSTART;TZID=Europe/London:20221111T190000
DTEND;TZID=Europe/London:20221111T223000
DTSTAMP:20260423T012805
CREATED:20230502T083206Z
LAST-MODIFIED:20230502T083206Z
UID:3791-1668193200-1668205800@www.rsyc.org.uk
SUMMARY:Speakers Supper - Sandor Vaci
DESCRIPTION:A Speaker Supper\nwith\nSandor P Vaci\n(RIBArt Dipl Arch MA Michigan).\n  \nHow the Maritime Enterprise\nof Britain Spurred the\nIndustrial Revolution.\nWe invite you to join us at Gins for this fascinating talk about our\nmaritime history and its influence on the industrial revolution. \nSandor P Vaci is an acclaimed architect\, scholar and writer. \n7pm for the talk with supper following at 8pm \nChicken or vegetable curry. £15 per person \n \nSandor P Vaci
URL:https://www.rsyc.org.uk/event/speakers-supper-sandor-vaci/
CATEGORIES:Social
END:VEVENT
END:VCALENDAR