BEGIN:VCALENDAR
VERSION:2.0
PRODID:-//Royal Southampton Yacht Club  - ECPv6.15.17.1//NONSGML v1.0//EN
CALSCALE:GREGORIAN
METHOD:PUBLISH
X-WR-CALNAME:Royal Southampton Yacht Club 
X-ORIGINAL-URL:https://www.rsyc.org.uk
X-WR-CALDESC:Events for Royal Southampton Yacht Club 
REFRESH-INTERVAL;VALUE=DURATION:PT1H
X-Robots-Tag:noindex
X-PUBLISHED-TTL:PT1H
BEGIN:VTIMEZONE
TZID:Europe/London
BEGIN:DAYLIGHT
TZOFFSETFROM:+0000
TZOFFSETTO:+0100
TZNAME:BST
DTSTART:20220327T010000
END:DAYLIGHT
BEGIN:STANDARD
TZOFFSETFROM:+0100
TZOFFSETTO:+0000
TZNAME:GMT
DTSTART:20221030T010000
END:STANDARD
BEGIN:DAYLIGHT
TZOFFSETFROM:+0000
TZOFFSETTO:+0100
TZNAME:BST
DTSTART:20230326T010000
END:DAYLIGHT
BEGIN:STANDARD
TZOFFSETFROM:+0100
TZOFFSETTO:+0000
TZNAME:GMT
DTSTART:20231029T010000
END:STANDARD
BEGIN:DAYLIGHT
TZOFFSETFROM:+0000
TZOFFSETTO:+0100
TZNAME:BST
DTSTART:20240331T010000
END:DAYLIGHT
BEGIN:STANDARD
TZOFFSETFROM:+0100
TZOFFSETTO:+0000
TZNAME:GMT
DTSTART:20241027T010000
END:STANDARD
END:VTIMEZONE
BEGIN:VEVENT
DTSTART;VALUE=DATE:20230622
DTEND;VALUE=DATE:20230623
DTSTAMP:20260424T155908
CREATED:20230526T151527Z
LAST-MODIFIED:20230526T151527Z
UID:4547-1687392000-1687478399@www.rsyc.org.uk
SUMMARY:Summer Series
DESCRIPTION:The series starts on the of 22nd June. \nRace 2 = 29th June\nRace 3 = 6th July\nRace 4 = 13th July\nRace 5 = 20th July \n 
URL:https://www.rsyc.org.uk/event/summer-series/
LOCATION:Southampton Water
CATEGORIES:Southampton Water
END:VEVENT
BEGIN:VEVENT
DTSTART;TZID=Europe/London:20230603T080000
DTEND;TZID=Europe/London:20230603T170000
DTSTAMP:20260424T155908
CREATED:20230530T124608Z
LAST-MODIFIED:20230530T124717Z
UID:4578-1685779200-1685811600@www.rsyc.org.uk
SUMMARY:Beaulieu Series
DESCRIPTION:Race 1 = 12th May\nRace 2 = 26th May\nRace 3 = 9th June\nRace 4 = 8th July\nRace 5 = 19th August\nRace 6 = 2nd September
URL:https://www.rsyc.org.uk/event/beaulieu-series/
CATEGORIES:Beaulieu Racing Sailing
END:VEVENT
BEGIN:VEVENT
DTSTART;VALUE=DATE:20230622
DTEND;VALUE=DATE:20230623
DTSTAMP:20260424T155908
CREATED:20230526T151527Z
LAST-MODIFIED:20230526T151527Z
UID:4547-1687392000-1687478399@www.rsyc.org.uk
SUMMARY:Summer Series
DESCRIPTION:The series starts on the of 22nd June. \nRace 2 = 29th June\nRace 3 = 6th July\nRace 4 = 13th July\nRace 5 = 20th July \n 
URL:https://www.rsyc.org.uk/event/summer-series/
LOCATION:Southampton Water
CATEGORIES:Southampton Water
END:VEVENT
BEGIN:VEVENT
DTSTART;VALUE=DATE:20230622
DTEND;VALUE=DATE:20230623
DTSTAMP:20260424T155908
CREATED:20230526T151527Z
LAST-MODIFIED:20230526T151527Z
UID:4547-1687392000-1687478399@www.rsyc.org.uk
SUMMARY:Summer Series
DESCRIPTION:The series starts on the of 22nd June. \nRace 2 = 29th June\nRace 3 = 6th July\nRace 4 = 13th July\nRace 5 = 20th July \n 
URL:https://www.rsyc.org.uk/event/summer-series/
LOCATION:Southampton Water
CATEGORIES:Southampton Water
END:VEVENT
BEGIN:VEVENT
DTSTART;TZID=Europe/London:20230729T080000
DTEND;TZID=Europe/London:20230805T170000
DTSTAMP:20260424T155908
CREATED:20230103T000000Z
LAST-MODIFIED:20230418T151228Z
UID:3421-1690617600-1691254800@www.rsyc.org.uk
SUMMARY:Cowes Week 29 July to 5 August
DESCRIPTION:
URL:https://www.rsyc.org.uk/event/cowes-week-29-july-to-5-august/
CATEGORIES:Racing
END:VEVENT
END:VCALENDAR