BEGIN:VCALENDAR
VERSION:2.0
PRODID:-//Royal Southampton Yacht Club  - ECPv6.15.17.1//NONSGML v1.0//EN
CALSCALE:GREGORIAN
METHOD:PUBLISH
X-WR-CALNAME:Royal Southampton Yacht Club 
X-ORIGINAL-URL:https://www.rsyc.org.uk
X-WR-CALDESC:Events for Royal Southampton Yacht Club 
REFRESH-INTERVAL;VALUE=DURATION:PT1H
X-Robots-Tag:noindex
X-PUBLISHED-TTL:PT1H
BEGIN:VTIMEZONE
TZID:Europe/London
BEGIN:DAYLIGHT
TZOFFSETFROM:+0000
TZOFFSETTO:+0100
TZNAME:BST
DTSTART:20210328T010000
END:DAYLIGHT
BEGIN:STANDARD
TZOFFSETFROM:+0100
TZOFFSETTO:+0000
TZNAME:GMT
DTSTART:20211031T010000
END:STANDARD
BEGIN:DAYLIGHT
TZOFFSETFROM:+0000
TZOFFSETTO:+0100
TZNAME:BST
DTSTART:20220327T010000
END:DAYLIGHT
BEGIN:STANDARD
TZOFFSETFROM:+0100
TZOFFSETTO:+0000
TZNAME:GMT
DTSTART:20221030T010000
END:STANDARD
BEGIN:DAYLIGHT
TZOFFSETFROM:+0000
TZOFFSETTO:+0100
TZNAME:BST
DTSTART:20230326T010000
END:DAYLIGHT
BEGIN:STANDARD
TZOFFSETFROM:+0100
TZOFFSETTO:+0000
TZNAME:GMT
DTSTART:20231029T010000
END:STANDARD
END:VTIMEZONE
BEGIN:VEVENT
DTSTART;TZID=Europe/London:20221112T120000
DTEND;TZID=Europe/London:20221113T123000
DTSTAMP:20260422T181633
CREATED:20230502T083028Z
LAST-MODIFIED:20230502T083028Z
UID:3788-1668254400-1668342600@www.rsyc.org.uk
SUMMARY:Newtown Creek Rally
DESCRIPTION:….”silence is complete but for the cries of the sea-birds”   \nAs the New Inn remains closed\, the evening meal will take the form of a Safari Supper. \nPlease let me know which course you wish to provide together with the number of guests each boat can accommodate. \nWe would anticipate you will take the ebb tide to arrive in the creek at about mid afternoon.  The mooring buoys will each accommodate two vessels. The closer the better. \nA walk (taking about 1hr 15 mins) will be arranged either later Saturday  PM or on Sunday morning. \nMaggie          membership@rsyc.org.uk
URL:https://www.rsyc.org.uk/event/newtown-creek-rally/
CATEGORIES:Cruising
END:VEVENT
END:VCALENDAR